BEGIN:VCALENDAR
VERSION:2.0
PRODID:icalendar-ruby
CALSCALE:GREGORIAN
METHOD:PUBLISH
BEGIN:VEVENT
DTSTAMP:20210226T234001Z
UID:http://www.southcoastps.com.au/property?property_id=636765
DTSTART:20201128T110000
DTEND:20201128T113000
CLASS:PUBLIC
CREATED:20201012T103305
DESCRIPTION: 
LAST-MODIFIED:20201216T183949
LOCATION:56 ILUKA AVENUE\, MALUA BAY NSW 2536\, Australia
SUMMARY:56 ILUKA AVENUE\,  Auction
URL:http://www.southcoastps.com.au/property?property_id=636765
END:VEVENT
END:VCALENDAR
