BEGIN:VCALENDAR
VERSION:2.0
PRODID:icalendar-ruby
CALSCALE:GREGORIAN
METHOD:PUBLISH
BEGIN:VTIMEZONE
TZID:Australia/Sydney
BEGIN:DAYLIGHT
DTSTART:20201004T030000
TZOFFSETFROM:+1000
TZOFFSETTO:+1100
RRULE:FREQ=YEARLY;BYDAY=1SU;BYMONTH=10
TZNAME:AEDT
END:DAYLIGHT
BEGIN:STANDARD
DTSTART:20210404T020000
TZOFFSETFROM:+1100
TZOFFSETTO:+1000
RRULE:FREQ=YEARLY;BYDAY=1SU;BYMONTH=4
TZNAME:AEST
END:STANDARD
END:VTIMEZONE
BEGIN:VEVENT
DTSTAMP:20210226T233803Z
UID:inspection_932971
DTSTART;TZID=Australia/Sydney:20210227T110000
DTEND;TZID=Australia/Sydney:20210227T113000
CLASS:PUBLIC
CREATED:20210224T100354
DESCRIPTION: 
LAST-MODIFIED:20210224T100354
LOCATION:31 MOORONG CRESCENT\, MALUA BAY NSW 2536\, Australia
SUMMARY:31 MOORONG CRESCENT\,  Inspection
URL:http://www.southcoastps.com.au/
END:VEVENT
END:VCALENDAR
